BEGIN:VCALENDAR
VERSION:2.0
PRODID:-//Circus Poker//Product Application//EN
METHOD:PUBLISH
BEGIN:VEVENT
DTSTAMP:20260422T004859Z
DTSTART:20260511T150000Z
UID:fe706a9b-df4f-2831-e3fc-3a20a8fb6457
ORGANIZER;CN=Circus Club Paris:MAILTO:info@circus-poker.com
CREATED:20260422T004859Z
LOCATION:Boulevard Murat - 37-39 Paris 75016
SEQUENCE:0
STATUS:CONFIRMED
SUMMARY:DAYMON Circus
TRANSP:OPAQUE
END:VEVENT
END:VCALENDAR
