BEGIN:VCALENDAR
VERSION:2.0
PRODID:-//Circus Poker//Product Application//EN
METHOD:PUBLISH
BEGIN:VEVENT
DTSTAMP:20260422T015050Z
DTSTART:20260504T140000Z
UID:d7cbc3e3-cf35-5f98-a91e-3a20bdcbbf2f
ORGANIZER;CN=Circus Club Paris:MAILTO:info@circus-poker.com
CREATED:20260422T015050Z
LOCATION:Boulevard Murat - 37-39 Paris 75016
SEQUENCE:0
STATUS:CONFIRMED
SUMMARY:MONDAY CIRCUS 250
TRANSP:OPAQUE
END:VEVENT
END:VCALENDAR
