BEGIN:VCALENDAR
VERSION:2.0
PRODID:-//Circus Poker//Product Application//EN
METHOD:PUBLISH
BEGIN:VEVENT
DTSTAMP:20260422T023258Z
DTSTART:20260502T130000Z
UID:d2ea953f-2d8e-b20e-3973-3a20bd5de258
ORGANIZER;CN=Circus Club Paris:MAILTO:info@circus-poker.com
CREATED:20260422T023258Z
LOCATION:Boulevard Murat - 37-39 Paris 75016
SEQUENCE:0
STATUS:CONFIRMED
SUMMARY:CIRCUS Superstack 350 -S-
TRANSP:OPAQUE
END:VEVENT
END:VCALENDAR
