BEGIN:VCALENDAR
VERSION:2.0
PRODID:-//Circus Poker//Product Application//EN
METHOD:PUBLISH
BEGIN:VEVENT
DTSTAMP:20260422T023732Z
DTSTART:20260509T130000Z
UID:cc19ecd8-96b2-2af4-fe64-3a20bd5de2d5
ORGANIZER;CN=Circus Club Paris:MAILTO:info@circus-poker.com
CREATED:20260422T023732Z
LOCATION:Boulevard Murat - 37-39 Paris 75016
SEQUENCE:0
STATUS:CONFIRMED
SUMMARY:CIRCUS Superstack 350 -S-
TRANSP:OPAQUE
END:VEVENT
END:VCALENDAR
