BEGIN:VCALENDAR
VERSION:2.0
PRODID:-//Circus Poker//Product Application//EN
METHOD:PUBLISH
BEGIN:VEVENT
DTSTAMP:20260425T111311Z
DTSTART:20260630T173000Z
UID:c07b363a-96c2-867f-c11f-3a20cdaccf32
ORGANIZER;CN=Circus Poker - Casino Resort Namur:MAILTO:info@circus-poker.com
CREATED:20260425T111311Z
LOCATION:Avenue Baron de Moreau 1 Namur 5000
SEQUENCE:0
STATUS:CONFIRMED
SUMMARY:#GRND On Tour | Big Tuesday
TRANSP:OPAQUE
END:VEVENT
END:VCALENDAR
