BEGIN:VCALENDAR
VERSION:2.0
PRODID:-//Circus Poker//Product Application//EN
METHOD:PUBLISH
BEGIN:VEVENT
DTSTAMP:20260422T033614Z
DTSTART:20260513T160000Z
UID:4fefa842-ef5f-31b3-47bf-3a20a8fb64be
ORGANIZER;CN=Circus Club Paris:MAILTO:info@circus-poker.com
CREATED:20260422T033614Z
LOCATION:Boulevard Murat - 37-39 Paris 75016
SEQUENCE:0
STATUS:CONFIRMED
SUMMARY:MAXI Circus
TRANSP:OPAQUE
END:VEVENT
END:VCALENDAR
