BEGIN:VCALENDAR
VERSION:2.0
PRODID:-//Circus Poker//Product Application//EN
METHOD:PUBLISH
BEGIN:VEVENT
DTSTAMP:20260422T004829Z
DTSTART:20260503T130000Z
UID:4b71cc90-ed8e-07fa-aae4-3a20bd5de3af
ORGANIZER;CN=Circus Club Paris:MAILTO:info@circus-poker.com
CREATED:20260422T004829Z
LOCATION:Boulevard Murat - 37-39 Paris 75016
SEQUENCE:0
STATUS:CONFIRMED
SUMMARY:le CLASSICO
TRANSP:OPAQUE
END:VEVENT
END:VCALENDAR
