BEGIN:VCALENDAR
VERSION:2.0
PRODID:-//Circus Poker//Product Application//EN
METHOD:PUBLISH
BEGIN:VEVENT
DTSTAMP:20260425T204725Z
DTSTART:20260701T140000Z
UID:1b66f1b5-d6e4-985d-31df-3a20d71d952e
ORGANIZER;CN=Circus Poker - Casino Resort Namur:MAILTO:info@circus-poker.com
CREATED:20260425T204725Z
LOCATION:Avenue Baron de Moreau 1 Namur 5000
SEQUENCE:0
STATUS:CONFIRMED
SUMMARY:#GRND On Tour | Qualifier to €330 TOUCHDOWN - Seat @ 50K Chips
TRANSP:OPAQUE
END:VEVENT
END:VCALENDAR
