BEGIN:VCALENDAR
VERSION:2.0
PRODID:-//Circus Poker//Product Application//EN
METHOD:PUBLISH
BEGIN:VEVENT
DTSTAMP:20260423T103134Z
DTSTART:20260524T120000Z
UID:f28b878e-960e-3551-c5fa-3a20bd5de48a
ORGANIZER;CN=Circus Club Paris:MAILTO:info@circus-poker.com
CREATED:20260423T103134Z
LOCATION:Boulevard Murat - 37-39 Paris 75016
SEQUENCE:0
STATUS:CONFIRMED
SUMMARY:MYSTERY PAYOUT
TRANSP:OPAQUE
END:VEVENT
END:VCALENDAR
