BEGIN:VCALENDAR
VERSION:2.0
PRODID:-//Circus Poker//Product Application//EN
METHOD:PUBLISH
BEGIN:VEVENT
DTSTAMP:20260423T105840Z
DTSTART:20260517T130000Z
UID:b8bce107-1116-53f6-da5b-3a20bd5de41d
ORGANIZER;CN=Circus Club Paris:MAILTO:info@circus-poker.com
CREATED:20260423T105840Z
LOCATION:Boulevard Murat - 37-39 Paris 75016
SEQUENCE:0
STATUS:CONFIRMED
SUMMARY:le CLASSICO
TRANSP:OPAQUE
END:VEVENT
END:VCALENDAR
