BEGIN:VCALENDAR
VERSION:2.0
PRODID:-//Circus Poker//Product Application//EN
METHOD:PUBLISH
BEGIN:VEVENT
DTSTAMP:20260421T230056Z
DTSTART:20260507T130000Z
UID:a607cbbf-5a2c-7258-f34a-3a20bdcbbec2
ORGANIZER;CN=Circus Club Paris:MAILTO:info@circus-poker.com
CREATED:20260421T230056Z
LOCATION:Boulevard Murat - 37-39 Paris 75016
SEQUENCE:0
STATUS:CONFIRMED
SUMMARY:CIRCUS Superstack 400
TRANSP:OPAQUE
END:VEVENT
END:VCALENDAR
