BEGIN:VCALENDAR
VERSION:2.0
PRODID:-//Circus Poker//Product Application//EN
METHOD:PUBLISH
BEGIN:VEVENT
DTSTAMP:20260425T114851Z
DTSTART:20260704T160000Z
UID:777c656b-6cd0-712d-9df2-3a20cd75b440
ORGANIZER;CN=Circus Poker - Casino Resort Namur:MAILTO:info@circus-poker.com
CREATED:20260425T114851Z
LOCATION:Avenue Baron de Moreau 1 Namur 5000
SEQUENCE:0
STATUS:CONFIRMED
SUMMARY:#THE GRND PEAK High Roller
TRANSP:OPAQUE
END:VEVENT
END:VCALENDAR
