BEGIN:VCALENDAR
VERSION:2.0
PRODID:-//Circus Poker//Product Application//EN
METHOD:PUBLISH
BEGIN:VEVENT
DTSTAMP:20260425T030018Z
DTSTART:20260611T173000Z
UID:6ef85d2c-54cb-8b9e-1c40-3a20d22e3724
ORGANIZER;CN=Circus Poker - Casino Resort Namur:MAILTO:info@circus-poker.com
CREATED:20260425T030018Z
LOCATION:Avenue Baron de Moreau 1 Namur 5000
SEQUENCE:0
STATUS:CONFIRMED
SUMMARY:Discount Week! Thursday Deep'
TRANSP:OPAQUE
END:VEVENT
END:VCALENDAR
