BEGIN:VCALENDAR
VERSION:2.0
PRODID:-//Circus Poker//Product Application//EN
METHOD:PUBLISH
BEGIN:VEVENT
DTSTAMP:20260422T014711Z
DTSTART:20260510T130000Z
UID:2be00f79-0ad3-2d29-1c22-3a20bd5de342
ORGANIZER;CN=Circus Club Paris:MAILTO:info@circus-poker.com
CREATED:20260422T014711Z
LOCATION:Boulevard Murat - 37-39 Paris 75016
SEQUENCE:0
STATUS:CONFIRMED
SUMMARY:le CLASSICO
TRANSP:OPAQUE
END:VEVENT
END:VCALENDAR
