BEGIN:VCALENDAR
VERSION:2.0
PRODID:-//Circus Poker//Product Application//EN
METHOD:PUBLISH
BEGIN:VEVENT
DTSTAMP:20260424T232635Z
DTSTART:20260628T190000Z
UID:276f05ea-6b1d-2a99-ee5a-3a20cd75b3a4
ORGANIZER;CN=Circus Poker - Casino Resort Namur:MAILTO:info@circus-poker.com
CREATED:20260424T232635Z
LOCATION:Avenue Baron de Moreau 1 Namur 5000
SEQUENCE:0
STATUS:CONFIRMED
SUMMARY:#GRND On Tour | Kroko Crazy Pineapple
TRANSP:OPAQUE
END:VEVENT
END:VCALENDAR
