BEGIN:VCALENDAR
VERSION:2.0
PRODID:-//Circus Poker//Product Application//EN
METHOD:PUBLISH
BEGIN:VEVENT
DTSTAMP:20260425T102057Z
DTSTART:20260629T140000Z
UID:d854cb39-91e5-49db-5888-3a20cdaccf80
ORGANIZER;CN=Circus Poker - Casino Resort Namur:MAILTO:info@circus-poker.com
CREATED:20260425T102057Z
LOCATION:Avenue Baron de Moreau 1 Namur 5000
SEQUENCE:0
STATUS:CONFIRMED
SUMMARY:#GRND On Tour | Qualifier to €250 Main Event - Seat @ 50K
TRANSP:OPAQUE
END:VEVENT
END:VCALENDAR
