BEGIN:VCALENDAR
VERSION:2.0
PRODID:-//Circus Poker//Product Application//EN
METHOD:PUBLISH
BEGIN:VEVENT
DTSTAMP:20260422T001836Z
DTSTART:20260505T140000Z
UID:d82d0540-d895-ca1c-6422-3a20bdcbbf9d
ORGANIZER;CN=Circus Club Paris:MAILTO:info@circus-poker.com
CREATED:20260422T001836Z
LOCATION:Boulevard Murat - 37-39 Paris 75016
SEQUENCE:0
STATUS:CONFIRMED
SUMMARY:SUPER TUESDAY 250
TRANSP:OPAQUE
END:VEVENT
END:VCALENDAR
