BEGIN:VCALENDAR
VERSION:2.0
PRODID:-//Circus Poker//Product Application//EN
METHOD:PUBLISH
BEGIN:VEVENT
DTSTAMP:20260422T022503Z
DTSTART:20260506T140000Z
UID:d198ff94-b975-f86f-df4a-3a20bdcbbe55
ORGANIZER;CN=Circus Club Paris:MAILTO:info@circus-poker.com
CREATED:20260422T022503Z
LOCATION:Boulevard Murat - 37-39 Paris 75016
SEQUENCE:0
STATUS:CONFIRMED
SUMMARY:CIRCUS Deepstack 350
TRANSP:OPAQUE
END:VEVENT
END:VCALENDAR
