BEGIN:VCALENDAR
VERSION:2.0
PRODID:-//Circus Poker//Product Application//EN
METHOD:PUBLISH
BEGIN:VEVENT
DTSTAMP:20260425T111311Z
DTSTART:20260610T160000Z
UID:bbfa32cd-0131-09c1-ed97-3a20d22e36d6
ORGANIZER;CN=Circus Poker - Casino Resort Namur:MAILTO:info@circus-poker.com
CREATED:20260425T111311Z
LOCATION:Avenue Baron de Moreau 1 Namur 5000
SEQUENCE:0
STATUS:CONFIRMED
SUMMARY:Discount Week! Free Fifty - Self Deal
TRANSP:OPAQUE
END:VEVENT
END:VCALENDAR
