BEGIN:VCALENDAR
VERSION:2.0
PRODID:-//Circus Poker//Product Application//EN
METHOD:PUBLISH
BEGIN:VEVENT
DTSTAMP:20260422T005445Z
DTSTART:20260515T120000Z
UID:94e1f05a-f565-b603-8321-3a20bdcbbd7a
ORGANIZER;CN=Circus Club Paris:MAILTO:info@circus-poker.com
CREATED:20260422T005445Z
LOCATION:Boulevard Murat - 37-39 Paris 75016
SEQUENCE:0
STATUS:CONFIRMED
SUMMARY:~ CRAZY CIRCUS 200 ~
TRANSP:OPAQUE
END:VEVENT
END:VCALENDAR
