BEGIN:VCALENDAR
VERSION:2.0
PRODID:-//Circus Poker//Product Application//EN
METHOD:PUBLISH
BEGIN:VEVENT
DTSTAMP:20260425T122631Z
DTSTART:20260608T173000Z
UID:7a93e0cc-6df2-a756-ba8c-3a20d22e3678
ORGANIZER;CN=Circus Poker - Casino Resort Namur:MAILTO:info@circus-poker.com
CREATED:20260425T122631Z
LOCATION:Avenue Baron de Moreau 1 Namur 5000
SEQUENCE:0
STATUS:CONFIRMED
SUMMARY:Discount Week! 250K Freezeout
TRANSP:OPAQUE
END:VEVENT
END:VCALENDAR
