BEGIN:VCALENDAR
VERSION:2.0
PRODID:-//Circus Poker//Product Application//EN
METHOD:PUBLISH
BEGIN:VEVENT
DTSTAMP:20260422T002949Z
DTSTART:20260501T120000Z
UID:54c27316-c0bf-7ffd-4d62-3a20bd5de17d
ORGANIZER;CN=Circus Club Paris:MAILTO:info@circus-poker.com
CREATED:20260422T002949Z
LOCATION:Boulevard Murat - 37-39 Paris 75016
SEQUENCE:0
STATUS:CONFIRMED
SUMMARY: Le SPECIAL
TRANSP:OPAQUE
END:VEVENT
END:VCALENDAR
