BEGIN:VCALENDAR
VERSION:2.0
PRODID:-//Circus Poker//Product Application//EN
METHOD:PUBLISH
BEGIN:VEVENT
DTSTAMP:20260422T020057Z
DTSTART:20260522T120000Z
UID:533e7aae-5bf1-1982-0332-3a20bdcbbcfd
ORGANIZER;CN=Circus Club Paris:MAILTO:info@circus-poker.com
CREATED:20260422T020057Z
LOCATION:Boulevard Murat - 37-39 Paris 75016
SEQUENCE:0
STATUS:CONFIRMED
SUMMARY:~ CRAZY CIRCUS 200 ~
TRANSP:OPAQUE
END:VEVENT
END:VCALENDAR
