BEGIN:VCALENDAR
VERSION:2.0
PRODID:-//Circus Poker//Product Application//EN
METHOD:PUBLISH
BEGIN:VEVENT
DTSTAMP:20260422T013945Z
DTSTART:20260508T120000Z
UID:0736ba98-6a6b-1a77-df01-3a20bd5de1ea
ORGANIZER;CN=Circus Club Paris:MAILTO:info@circus-poker.com
CREATED:20260422T013945Z
LOCATION:Boulevard Murat - 37-39 Paris 75016
SEQUENCE:0
STATUS:CONFIRMED
SUMMARY: Le SPECIAL
TRANSP:OPAQUE
END:VEVENT
END:VCALENDAR
